BEGIN:VCALENDAR
VERSION:2.0
PRODID:-//Sprosti.se SHOP - ECPv6.15.20//NONSGML v1.0//EN
CALSCALE:GREGORIAN
METHOD:PUBLISH
X-WR-CALNAME:Sprosti.se SHOP
X-ORIGINAL-URL:https://sprosti.se
X-WR-CALDESC:Dogodki za Sprosti.se SHOP
REFRESH-INTERVAL;VALUE=DURATION:PT1H
X-Robots-Tag:noindex
X-PUBLISHED-TTL:PT1H
BEGIN:VTIMEZONE
TZID:Europe/Paris
BEGIN:DAYLIGHT
TZOFFSETFROM:+0100
TZOFFSETTO:+0200
TZNAME:CEST
DTSTART:20250330T010000
END:DAYLIGHT
BEGIN:STANDARD
TZOFFSETFROM:+0200
TZOFFSETTO:+0100
TZNAME:CET
DTSTART:20251026T010000
END:STANDARD
BEGIN:DAYLIGHT
TZOFFSETFROM:+0100
TZOFFSETTO:+0200
TZNAME:CEST
DTSTART:20260329T010000
END:DAYLIGHT
BEGIN:STANDARD
TZOFFSETFROM:+0200
TZOFFSETTO:+0100
TZNAME:CET
DTSTART:20261025T010000
END:STANDARD
BEGIN:DAYLIGHT
TZOFFSETFROM:+0100
TZOFFSETTO:+0200
TZNAME:CEST
DTSTART:20270328T010000
END:DAYLIGHT
BEGIN:STANDARD
TZOFFSETFROM:+0200
TZOFFSETTO:+0100
TZNAME:CET
DTSTART:20271031T010000
END:STANDARD
END:VTIMEZONE
BEGIN:VEVENT
DTSTART;TZID=Europe/Paris:20260423T080000
DTEND;TZID=Europe/Paris:20260423T170000
DTSTAMP:20260421T105736
CREATED:20260323T120753Z
LAST-MODIFIED:20260323T120810Z
UID:252-1776931200-1776963600@sprosti.se
SUMMARY:Koncert
DESCRIPTION:Koncert testni\, to je opis. Koncert testni\, to je opis.  Koncert testni\, to je opis. Koncert testni\, to je opis. Koncert testni\, to je opis. Koncert testni\, to je opis. Koncert testni\, to je opis. Koncert testni\, to je opis. Koncert testni\, to je opis. Koncert testni\, to je opis. Koncert testni\, to je opis. Koncert testni\, to je opis. Koncert testni\, to je opis. Koncert testni\, to je opis. Koncert testni\, to je opis. Koncert testni\, to je opis. Koncert testni\, to je opis. Koncert testni\, to je opis. Koncert testni\, to je opis.
URL:https://sprosti.se/event/koncert/
LOCATION:Dvorana Tabor\, Maribor\, Slovenia
CATEGORIES:Koncert
ATTACH;FMTTYPE=image/png:https://sprosti.se/wp-content/uploads/2026/03/Sprosti_se_shop_hero.png
END:VEVENT
BEGIN:VEVENT
DTSTART;TZID=Europe/Paris:20260424T080000
DTEND;TZID=Europe/Paris:20260424T170000
DTSTAMP:20260421T105736
CREATED:20260323T121026Z
LAST-MODIFIED:20260324T075835Z
UID:258-1777017600-1777050000@sprosti.se
SUMMARY:Dogodek testni z malo daljšim naslovom
DESCRIPTION:Tole je testni dogodek. Tole je testni dogodek. Tole je testni dogodek. Tole je testni dogodek. Tole je testni dogodek. Tole je testni dogodek. Tole je testni dogodek. Tole je testni dogodek. Tole je testni dogodek. Tole je testni dogodek. Tole je testni dogodek. Tole je testni dogodek. Tole je testni dogodek. Tole je testni dogodek. Tole je testni dogodek. Tole je testni dogodek. Tole je testni dogodek. Tole je testni dogodek. Tole je testni dogodek. Tole je testni dogodek. Tole je testni dogodek. Tole je testni dogodek. Tole je testni dogodek. Tole je testni dogodek. Tole je testni dogodek. Tole je testni dogodek. Tole je testni dogodek. Tole je testni dogodek. Tole je testni dogodek. Tole je testni dogodek. Tole je testni dogodek. Tole je testni dogodek. Tole je testni dogodek. Tole je testni dogodek. Tole je testni dogodek. Tole je testni dogodek. Tole je testni dogodek. Tole je testni dogodek. Tole je testni dogodek. Tole je testni dogodek. Tole je testni dogodek. Tole je testni dogodek. Tole je testni dogodek. Tole je testni dogodek. Tole je testni dogodek. Tole je testni dogodek. Tole je testni dogodek. Tole je testni dogodek.
URL:https://sprosti.se/event/dogodek-testni-z-malo-daljsim-naslovom/
LOCATION:Dvorana Tabor\, Maribor\, Slovenia
CATEGORIES:Kultura
END:VEVENT
BEGIN:VEVENT
DTSTART;VALUE=DATE:20260520
DTEND;VALUE=DATE:20260521
DTSTAMP:20260421T105736
CREATED:20260323T120905Z
LAST-MODIFIED:20260331T071007Z
UID:254-1779235200-1779321599@sprosti.se
SUMMARY:Veselica
DESCRIPTION:To je opis veselice. To je opis veselice To je opis veselice To je opis veselice To je opis veselice To je opis veselice.To je opis veselice To je opis veselice To je opis veselice
URL:https://sprosti.se/event/veselica/
LOCATION:Dvorana Tabor\, Maribor\, Slovenia
CATEGORIES:Koncert
END:VEVENT
END:VCALENDAR